BEGIN:VCALENDAR
VERSION:2.0
PRODID:-//wp-events-plugin.com//7.2.3.1//EN
TZID:Europe/London
X-WR-TIMEZONE:Europe/London
BEGIN:VEVENT
UID:39@adminlaw.org.uk
DTSTART;TZID=Europe/London:20181121T180000
DTEND;TZID=Europe/London:20181121T193000
DTSTAMP:20220913T173922Z
URL:https://adminlaw.org.uk/event/what-has-the-hra-done-for-us/
SUMMARY:What has the HRA done for us?
DESCRIPTION:\nThis year marks 20 years from the passing of the Human Rights
  Act and 18 since it came into force. This seminar will consider the Act
 ’s achievements and its future. Has it succeeded in creating a human rig
 hts culture in the executive and judiciary and how will it fare in a post 
 Brexit world?\n\n\n \n\n\nSpeakers will be:\n\n\n \n\n\nProfessor Conor 
 Gearty\, Professor of Human Rights Law at LSE\n\n\n \n\n\nRebecca Hilsenr
 ath\, CEO of the Equality and Human Rights Commission.\n\n\n \n\n\nThe Ch
 air will be:\n\n\n Andrea Coomber\, Director of JUSTICE\n\n\n \n
ATTACH;FMTTYPE=image/jpeg:https://adminlaw.org.uk/wp-content/uploads/Human
 -Rights.jpg
CATEGORIES:Seminar
LOCATION:Gray's Inn Bingham Room\, 8 South Square\, London\, WC1R 5ET\, Uni
 ted Kingdom
GEO:51.51909759999999;-0.11220849999995153
X-APPLE-STRUCTURED-LOCATION;VALUE=URI;X-ADDRESS=8 South Square\, London\, W
 C1R 5ET\, United Kingdom;X-APPLE-RADIUS=100;X-TITLE=Gray's Inn Bingham Roo
 m:geo:51.51909759999999,-0.11220849999995153
END:VEVENT
BEGIN:VTIMEZONE
TZID:Europe/London
X-LIC-LOCATION:Europe/London
BEGIN:STANDARD
DTSTART:20181028T010000
TZOFFSETFROM:+0100
TZOFFSETTO:+0000
TZNAME:GMT
END:STANDARD
END:VTIMEZONE
END:VCALENDAR