BEGIN:VCALENDAR
VERSION:2.0
PRODID:-//wp-events-plugin.com//7.2.3.1//EN
TZID:Europe/London
X-WR-TIMEZONE:Europe/London
BEGIN:VEVENT
UID:60@adminlaw.org.uk
DTSTART;TZID=Europe/London:20210224T173000
DTEND;TZID=Europe/London:20210224T190000
DTSTAMP:20230411T093030Z
URL:https://adminlaw.org.uk/event/the-private-law-implications-of-public-l
 aw-illegality-some-recent-developments/
SUMMARY:The Private Law Implications of Public Law Illegality: Some Recent 
 Developments
DESCRIPTION:What are the implications for the purposes of private law claim
 s by or against a public body\, e.g. in contract or unjust enrichment\, of
  a finding that an act on the part of that body was unlawful as a matter o
 f public law? How are respective goals of public and private law reconcile
 d in such cases? The Hon. Mr Justice Foxton will address a number of recen
 t decisions in this important intersection of the law.\n\nThis seminar wil
 l be delivered via Zoom. The Zoom login details will be circulated the eve
 ning before the webinar. Please register below. Registration will close at
  6pm on 23 February.\n\nThis seminar is being presented jointly by the Lon
 don Common Law and Commercial Bar Association (LCLCBA) and the Administrat
 ive Law Bar Association (ALBA)
ATTACH;FMTTYPE=image/jpeg:https://adminlaw.org.uk/wp-content/uploads/Mr-Ju
 stice-Foxton.jpg
CATEGORIES:Seminar
END:VEVENT
BEGIN:VTIMEZONE
TZID:Europe/London
X-LIC-LOCATION:Europe/London
BEGIN:STANDARD
DTSTART:20201025T010000
TZOFFSETFROM:+0100
TZOFFSETTO:+0000
TZNAME:GMT
END:STANDARD
END:VTIMEZONE
END:VCALENDAR