BEGIN:VCALENDAR
VERSION:2.0
PRODID:-//wp-events-plugin.com//7.2.3.1//EN
TZID:Europe/London
X-WR-TIMEZONE:Europe/London
BEGIN:VEVENT
UID:17@adminlaw.org.uk
DTSTART;TZID=Europe/London:20170223T180000
DTEND;TZID=Europe/London:20170223T193000
DTSTAMP:20210428T224006Z
URL:https://adminlaw.org.uk/event/the-broken-conduit-a-seminar-on-the-supr
 eme-courts-miller-judgments/
SUMMARY:The broken conduit? A seminar on the Supreme Court’s Miller judgm
 ents
DESCRIPTION:ALBA’s first seminar for 2017 will consider the Supreme Court
 ’s judgments in Miller and Dos Santos v Secretary of State for Exiting t
 he European Union (“Miller”) (and the joined cases with it). Discussin
 g the decision will be Professors Nick Barber and John Finnis. Professor B
 arber was co-author of ‘Pulling the Article 50 ‘Trigger’: Parliament
 ’s Indispensable Role’\, published in the immediate aftermath of the B
 rexit vote which first advanced the argument that the Prime Minister was c
 onstitutionally unable to issue a notification triggering the UK’s withd
 rawal from the European Union without having been first authorised to do s
 o by an Act of the United Kingdom Parliament\, as to do so would be to rem
 ove rights created by statute. Professor Finnis responded to this argument
  by contending that there was no requirement for statutory authorisation a
 s the rights at the core of the Claimants’ case were not statutory right
 s at all\, but rather European rights\, brought into the United Kingdom le
 gal system through the ‘conduit pipe’ of a statute. This argument form
 ed the centerpiece of the Government’s appeal to the Supreme Court and i
 s reflected in the dissenting judgments.\n\nChairing the discussion will b
 e Helen Mountfield Q.C\, who was leading counsel for the “People’s Cha
 llenge” parties before both the Divisional Court and Supreme Court in Mi
 ller.\n\nTo register for a free ticket please go to: https://www.eventbri
 te.co.uk/e/the-broken-conduit-a-seminar-on-the-supreme-courts-miller-judgm
 ents-tickets-31709092750?utm_term=eventurl_text\n\n&nbsp\;
ATTACH;FMTTYPE=image/jpeg:https://adminlaw.org.uk/wp-content/uploads/supre
 me-court_595329071.jpg
CATEGORIES:Seminar
LOCATION:Large Pension Room\, Gray's Inn\, 8 South Square\, London\, WC1R 5
 ET\, United Kingdom
GEO:51.51909759999999;-0.11220849999995153
X-APPLE-STRUCTURED-LOCATION;VALUE=URI;X-ADDRESS=8 South Square\, London\, W
 C1R 5ET\, United Kingdom;X-APPLE-RADIUS=100;X-TITLE=Large Pension Room\, G
 ray's Inn:geo:51.51909759999999,-0.11220849999995153
END:VEVENT
BEGIN:VTIMEZONE
TZID:Europe/London
X-LIC-LOCATION:Europe/London
BEGIN:STANDARD
DTSTART:20161030T010000
TZOFFSETFROM:+0100
TZOFFSETTO:+0000
TZNAME:GMT
END:STANDARD
END:VTIMEZONE
END:VCALENDAR