BEGIN:VCALENDAR
VERSION:2.0
PRODID:-//wp-events-plugin.com//7.2.3.1//EN
TZID:Europe/London
X-WR-TIMEZONE:Europe/London
BEGIN:VEVENT
UID:62@adminlaw.org.uk
DTSTART;TZID=Europe/London:20200721T170000
DTEND;TZID=Europe/London:20200721T183000
DTSTAMP:20230411T094427Z
URL:https://adminlaw.org.uk/event/summer-conference-2020-immigration-and-a
 sylum/
SUMMARY:Summer Conference 2020: Immigration and Asylum
DESCRIPTION:Samantha Knights QC (Matrix)\, Jason Pobjoy (Blackstone Chamber
 s) and Alison Pickup (Public Law Project)\, chaired by Professor Parosha C
 handran (King’s College London and One Pump Court)
ATTACH;FMTTYPE=image/jpeg:https://adminlaw.org.uk/wp-content/uploads/Saman
 tha-Knights.jpg
CATEGORIES:Summer Conference
END:VEVENT
BEGIN:VTIMEZONE
TZID:Europe/London
X-LIC-LOCATION:Europe/London
BEGIN:DAYLIGHT
DTSTART:20200329T020000
TZOFFSETFROM:+0000
TZOFFSETTO:+0100
TZNAME:BST
END:DAYLIGHT
END:VTIMEZONE
END:VCALENDAR