BEGIN:VCALENDAR
VERSION:2.0
PRODID:-//wp-events-plugin.com//7.2.3.1//EN
TZID:Europe/London
X-WR-TIMEZONE:Europe/London
BEGIN:VEVENT
UID:95@adminlaw.org.uk
DTSTART;TZID=Europe/London:20220106T180000
DTEND;TZID=Europe/London:20220106T200000
DTSTAMP:20220107T165035Z
URL:https://adminlaw.org.uk/event/securing-pupillage-in-public-law-2/
SUMMARY:Securing Pupillage in Public Law
DESCRIPTION:The Covid-19 pandemic has affected the extent to which people p
 lanning to apply for pupillage in 2022 have been able to build-up experien
 ce in the field of public law\, for example through mini-pupillages.  As 
 a result – and as part of its efforts to widen access to the Bar – the
  Constitutional and Administrative Law Bar Association (ALBA) is holding a
  webinar intended to help those considering applying for pupillage in publ
 ic law.\n\nThe webinar is aimed at all those who are considering applying 
 for pupillage in 2022.  It is not limited to student members of ALBA (alt
 hough you can join as a student member of ALBA for £20 a year).\n\nThe we
 binar will be chaired by Richard Honey QC of Francis Taylor Building.\n\nI
 t will comprise short\, focussed talks (5-8 minutes) on the following subj
 ects:\n\n 	what does a public law practice at the Bar cover – Sarah Sack
 man\, Matrix Chambers\n 	what is public law really about in practice – S
 teve Broach\, 39 Essex Chambers\n 	public law practice beyond London – A
 rianna Kelly\, 39 Essex Chambers\n 	sets to think about applying to for pu
 pillage – Amy Mannion\, 1 Crown Office Row\n 	how to demonstrate an inte
 rest in public law – Khatija Hafesji\, Monckton Chambers\n 	what public 
 law sets are looking for in candidates – Anneli Howard QC\, Monckton Cha
 mbers\n 	how to stand out at the application stage – Caroline Daly\, Fra
 ncis Taylor Building\n 	how to do well in interviews – Imogen Proud\, Mo
 nckton Chambers\n 	a pupil’s perspective – Donnchadh Greene\, Doughty 
 Street Chambers\n\nThe webinar will end with a 30 minute Q&amp\;A session.
 \n\nPlease sign up for this event below. Please note that registration wi
 ll close at 6pm on Wednesday 5 January 2022. The Zoom link will be sent ou
 t after this time. If you have not received your link by the morning of 6 
 January\, please email: administrator@adminlaw.org.uk
ATTACH;FMTTYPE=image/jpeg:https://adminlaw.org.uk/wp-content/uploads/Richa
 rd-Honey-QC-e1641574200911.png
CATEGORIES:Seminar
END:VEVENT
BEGIN:VTIMEZONE
TZID:Europe/London
X-LIC-LOCATION:Europe/London
BEGIN:STANDARD
DTSTART:20211031T010000
TZOFFSETFROM:+0100
TZOFFSETTO:+0000
TZNAME:GMT
END:STANDARD
END:VTIMEZONE
END:VCALENDAR