BEGIN:VCALENDAR
VERSION:2.0
PRODID:-//wp-events-plugin.com//7.2.3.1//EN
TZID:Europe/London
X-WR-TIMEZONE:Europe/London
BEGIN:VEVENT
UID:143@adminlaw.org.uk
DTSTART;TZID=Europe/London:20250623T130000
DTEND;TZID=Europe/London:20250623T140000
DTSTAMP:20250625T140112Z
URL:https://adminlaw.org.uk/event/making-a-difference-recent-case-law-on-s
 -312a-of-the-senior-courts-act-1981/
SUMMARY:Making A Difference? Recent Case Law on s 31(2A) of the Senior Cour
 ts Act 1981
DESCRIPTION:ALBA is pleased to invite members to a lunchtime webinar on the
  “no substantial difference” provisions in the Senior Courts Act 1981.
  We are delighted to be joined by Charles Streeten (Francis Taylor Buildin
 g) and Daniel Stedman Jones (39 Essex Chambers)\, who will discuss the cas
 e law on s 31(2A)\, including the recent decisions in R (Greenfields (IOW
 ) Limited) v Isle of Wight Council [2025] EWCA Civ 488 and Bradbury v Br
 econ Beacons National Park Authority [2025] EWCA Civ 489. The webinar wil
 l be chaired by Joanne Clement KC (11KBW).\nThe webinar will take place be
 tween 1 pm and 2 pm on Monday 23 June 2025. To sign up\, please register b
 elow.\nThe event is free and available to ALBA members only.\nRegistration
  will close at 6pm on Sunday 22 June. The Zoom link will be distributed af
 ter booking has closed.
ATTACH;FMTTYPE=image/jpeg:https://adminlaw.org.uk/wp-content/uploads/busin
 ess-papers_1962176296.jpg
CATEGORIES:Seminar
END:VEVENT
BEGIN:VTIMEZONE
TZID:Europe/London
X-LIC-LOCATION:Europe/London
BEGIN:DAYLIGHT
DTSTART:20250330T020000
TZOFFSETFROM:+0000
TZOFFSETTO:+0100
TZNAME:BST
END:DAYLIGHT
END:VTIMEZONE
END:VCALENDAR