BEGIN:VCALENDAR
VERSION:2.0
PRODID:-//wp-events-plugin.com//7.2.3.1//EN
TZID:Europe/London
X-WR-TIMEZONE:Europe/London
BEGIN:VEVENT
UID:59@adminlaw.org.uk
DTSTART;TZID=Europe/London:20210202T180000
DTEND;TZID=Europe/London:20210316T193000
DTSTAMP:20220913T172452Z
URL:https://adminlaw.org.uk/event/judicial-review-introductory-series-4/
SUMMARY:Judicial Review Introductory Series
DESCRIPTION:This series (held via Zoom) is intended to be an introductory c
 ourse\, and is ideally suited to pupils\, junior public law practitioners\
 , or experienced barristers interested in learning about the procedure and
  practice of judicial review. It also serves as an update for any procedur
 al developments in the past year.\n\nEach webinar will be chaired by Jonat
 han Moffett QC (11KBW) and led by experienced and knowledgeable practition
 ers.\n\n 	Tuesday 2nd February 2021– Preparing a case for judicial rev
 iew – Julia Smyth (Landmark Chambers) and Katherine Barnes (39 Essex Cha
 mbers)\n 	Monday 22nd February 2021 – Preliminary procedural issues 
 – Tim Buley QC (Landmark Chambers) and Sandra Akinbolu (Lamb Building)\n
  	Tuesday 2nd March 2021 –  Permission applications and responses – 
 Eric Metcalfe and Khatija Hafesji (Monckton Chambers)\n 	Tuesday 16th Marc
 h 2021 – The substantive hearing - Martin Westgate QC (Doughty Street C
 hambers) and Leonie Hirst (Doughty Street Chambers)\n\nThese sessions are 
 for ALBA Members and Pupils only. You will be required to request a place 
 to attend. If you are a pupil and not a member of ALBA\, please indicate t
 his clearly in the comments section. Each confirmed booking will cover all
  four sessions. The Zoom link for each session will be sent out the evenin
 g prior to the respective webinar.\n\nPlease note that booking will close 
 on Monday 1st February 2021 at 6pm to allow time to organize the Zoom link
 s\, so please request your place (whichever session you hope to attend) be
 fore then.\n\n&nbsp\;\n\n\n \n
ATTACH;FMTTYPE=image/jpeg:https://adminlaw.org.uk/wp-content/uploads/JR.jp
 g
CATEGORIES:Seminar
END:VEVENT
BEGIN:VTIMEZONE
TZID:Europe/London
X-LIC-LOCATION:Europe/London
BEGIN:STANDARD
DTSTART:20201025T010000
TZOFFSETFROM:+0100
TZOFFSETTO:+0000
TZNAME:GMT
END:STANDARD
END:VTIMEZONE
END:VCALENDAR