BEGIN:VCALENDAR
VERSION:2.0
PRODID:-//wp-events-plugin.com//7.2.3.1//EN
TZID:Europe/London
X-WR-TIMEZONE:Europe/London
BEGIN:VEVENT
UID:38@adminlaw.org.uk
DTSTART;TZID=Europe/London:20181101T180000
DTEND;TZID=Europe/London:20181122T190000
DTSTAMP:20220913T174025Z
URL:https://adminlaw.org.uk/event/judicial-review-introductory-series-2/
SUMMARY:Judicial Review Introductory Series
DESCRIPTION:This series is intended to be an introductory course\, and is i
 deally suited to pupils\, junior public law practitioners\, or experienced
  barristers interested in learning about the procedure and practice of jud
 icial review. It also serves as an update for any procedural developments 
 in the past year.\n\nAll seminars will be led by experienced and knowledge
 able practitioners.\n\n 	Thursday 1st November 2018 – Preparing a cas
 e for judicial review – Zoe Leventhal (*NB: This session only will run f
 rom  5.30pm - 6.30pm)\n 	Thursday 8th November 2018 – Preliminary pro
 cedural issues – Sandra Akinbolu and Eric Fripp\n 	Wednesday 14th Novemb
 er 2018 –  Permission applications and responses – Eric Metcalfe\n 	
 Thursday 22nd November 2018 – The substantive hearing - Caoilfhionn Ga
 llagher QC\n\n\n*PLEASE NOTE: THIS EVENT HAS NOW SOLD OUT*\n \n
ATTACH;FMTTYPE=image/jpeg:https://adminlaw.org.uk/wp-content/uploads/JR.jp
 g
CATEGORIES:Seminar
LOCATION:Landmark Chambers\, 180 Fleet Street\, London \, EC4A 2HG\, United
  Kingdom
GEO:51.5142237;-0.10968389999993633
X-APPLE-STRUCTURED-LOCATION;VALUE=URI;X-ADDRESS=180 Fleet Street\, London \
 , EC4A 2HG\, United Kingdom;X-APPLE-RADIUS=100;X-TITLE=Landmark Chambers:g
 eo:51.5142237,-0.10968389999993633
END:VEVENT
BEGIN:VTIMEZONE
TZID:Europe/London
X-LIC-LOCATION:Europe/London
BEGIN:STANDARD
DTSTART:20181028T010000
TZOFFSETFROM:+0100
TZOFFSETTO:+0000
TZNAME:GMT
END:STANDARD
END:VTIMEZONE
END:VCALENDAR