BEGIN:VCALENDAR
VERSION:2.0
PRODID:-//wp-events-plugin.com//7.2.3.1//EN
TZID:Europe/London
X-WR-TIMEZONE:Europe/London
BEGIN:VEVENT
UID:41@adminlaw.org.uk
DTSTART;TZID=Europe/London:20190430T180000
DTEND;TZID=Europe/London:20190430T193000
DTSTAMP:20210428T224311Z
URL:https://adminlaw.org.uk/event/judicial-bullying/
SUMMARY:Judicial Bullying
DESCRIPTION:Have you experienced bullying by a judge when appearing in cour
 t or in a tribunal? Have you felt unjustifiably singled out for criticism\
 , humiliated in front of your client or belittled? Have you been required 
 to comply with impossible procedural directions?\n\nALBA will be holding a
  round table discussion\, chaired by Karon Monaghan QC\, to discuss experi
 ences of judicial bullying and how ALBA might help in addressing it.\n\nTo
  encourage frank discussion\, the Chatham House rule will apply. An anonym
 ised record of the discussion will be made.\n
ATTACH;FMTTYPE=image/jpeg:https://adminlaw.org.uk/wp-content/uploads/RCJ_3
 5810257.jpg
CATEGORIES:Seminar
LOCATION:Brick Court Chambers\, 7-8 Essex Street\, London\, WC2R 3LD\, Unit
 ed Kingdom
GEO:51.512592;-0.113185
X-APPLE-STRUCTURED-LOCATION;VALUE=URI;X-ADDRESS=7-8 Essex Street\, London\,
  WC2R 3LD\, United Kingdom;X-APPLE-RADIUS=100;X-TITLE=Brick Court Chambers
 :geo:51.512592,-0.113185
END:VEVENT
BEGIN:VTIMEZONE
TZID:Europe/London
X-LIC-LOCATION:Europe/London
BEGIN:DAYLIGHT
DTSTART:20190331T020000
TZOFFSETFROM:+0000
TZOFFSETTO:+0100
TZNAME:BST
END:DAYLIGHT
END:VTIMEZONE
END:VCALENDAR