BEGIN:VCALENDAR
VERSION:2.0
PRODID:-//wp-events-plugin.com//7.2.3.1//EN
TZID:Europe/London
X-WR-TIMEZONE:Europe/London
BEGIN:VEVENT
UID:32@adminlaw.org.uk
DTSTART;TZID=Europe/London:20180424T180000
DTEND;TZID=Europe/London:20180424T193000
DTSTAMP:20220913T174933Z
URL:https://adminlaw.org.uk/event/damages-liability-of-public-authorities/
SUMMARY:Damages Liability of Public Authorities
DESCRIPTION:This is a timely opportunity to look again at this important to
 pic following the recent landmark decisions of the Supreme Court in Robin
 son v Chief Constable of West Yorkshire [2018] 2 WLR 595 and Commissione
 r of Police v DSD [2018] 2 WLR 895. The seminar will also consider liabil
 ity for breach of duties derived from EU law.\n\nSpeakers: \n\nProfessor 
 Paul Craig - Professor of English Law Oxford University. \n\nDuncan Fairg
 rieve – 1 Crown Office Row\, Senior Fellow in Comparative Law at the Bri
 tish Institute of International and Comparative Law\, counsel in Robinson
  and in Michael v South Wales Police [2015] UKSC 2.   \n\nRuth Brande
 r\, Doughty St Chambers\, counsel in DSD. \n\n Chair:\n\nPhillippa Kaufm
 ann QC\, Matrix Chambers\, leading counsel in DSD. \n\n&nbsp\;\n\nIf you w
 ish to attend this seminar\, please reserve a free space below.
ATTACH;FMTTYPE=image/jpeg:https://adminlaw.org.uk/wp-content/uploads/busin
 ess-papers_1962176296.jpg
CATEGORIES:Seminar
LOCATION:International Dispute Resolution Centre\, 70 Fleet Street\, London
 \, EC4Y 1EU\, United Kingdom
GEO:51.513989;-0.10722399999997378
X-APPLE-STRUCTURED-LOCATION;VALUE=URI;X-ADDRESS=70 Fleet Street\, London\, 
 EC4Y 1EU\, United Kingdom;X-APPLE-RADIUS=100;X-TITLE=International Dispute
  Resolution Centre:geo:51.513989,-0.10722399999997378
END:VEVENT
BEGIN:VTIMEZONE
TZID:Europe/London
X-LIC-LOCATION:Europe/London
BEGIN:DAYLIGHT
DTSTART:20180325T020000
TZOFFSETFROM:+0000
TZOFFSETTO:+0100
TZNAME:BST
END:DAYLIGHT
END:VTIMEZONE
END:VCALENDAR