BEGIN:VCALENDAR
VERSION:2.0
PRODID:-//wp-events-plugin.com//7.2.3.1//EN
TZID:Europe/London
X-WR-TIMEZONE:Europe/London
BEGIN:VEVENT
UID:58@adminlaw.org.uk
DTSTART;TZID=Europe/London:20210119T180000
DTEND;TZID=Europe/London:20210119T193000
DTSTAMP:20230411T093437Z
URL:https://adminlaw.org.uk/event/book-launch-for-judicial-review-handbook
 /
SUMMARY:Book Launch for Judicial Review Handbook
DESCRIPTION:The Judicial Review Handbook revolutionised the way public law
 yers think about judicial review and research judicial review cases. By id
 entifying the underlying principles and setting out the authorities which 
 support those principles\, the Judicial Review Handbook has been an indis
 pensable tool for all practitioners since it was first published in 1994. 
 In conjunction with Hart Publishing\, ALBA is delighted to announce the pu
 blication of the seventh edition of Sir Michael Fordham’s Judicial Revi
 ew Handbook\, and to host an event to launch the publication of this book.
 \n\nThe book launch event will take place via Zoom at 6pm on Tuesday\, 19 
 January 2021. ALBA is pleased to announce that Thornton J will chair the e
 vent\, and the panel of speakers will comprise Lord Woolf\, Sir Stephen Se
 dley\, Helen Mountfield QC\, Michael Beloff QC and of course Sir Michael F
 ordham himself.\n\nAs a special bonus\, attendees at the event will be ent
 itled to a 20% discount on the Judicial Review Handbook.\n\nPlease sign u
 p for this event below. Please note that this event is for ALBA MEMBERS ON
 LY. Booking will close at 6pm on Monday 18 January and the Zoom link will 
 be emailed to all qualifying registrants after this time.
ATTACH;FMTTYPE=image/jpeg:https://adminlaw.org.uk/wp-content/uploads/Sir-M
 ichael-Fordham.jpg
CATEGORIES:Seminar
END:VEVENT
BEGIN:VTIMEZONE
TZID:Europe/London
X-LIC-LOCATION:Europe/London
BEGIN:STANDARD
DTSTART:20201025T010000
TZOFFSETFROM:+0100
TZOFFSETTO:+0000
TZNAME:GMT
END:STANDARD
END:VTIMEZONE
END:VCALENDAR