BEGIN:VCALENDAR
VERSION:2.0
PRODID:-//wp-events-plugin.com//7.2.3.1//EN
TZID:Europe/London
X-WR-TIMEZONE:Europe/London
BEGIN:VEVENT
UID:110@adminlaw.org.uk
DTSTART;TZID=Europe/London:20230308T173000
DTEND;TZID=Europe/London:20230308T190000
DTSTAMP:20230503T101443Z
URL:https://adminlaw.org.uk/event/attorney-generals-panel-applications/
SUMMARY:Attorney General’s Panel Applications
DESCRIPTION:The ALBA Equality &amp\; Diversity Committee cordially invites 
 you to attend an event in our career development series\, “Attorney Gene
 ral’s Panel Applications” .\nThe event is aimed at junior barristers w
 ho are considering applying to the Attorney General’s C\, B\, or A Panel
 s – either in this round of applications or in the future.\nA panel of 
 speakers\, including representatives from GLD and current panel counsel\,
  will speak about the general application process\, the range of work\, t
 op tips on how to succeed\, as well as answer questions and discuss vario
 us Panel-related E&amp\;D issues\, such as maternity leave\, reasonable ad
 justments\, and widening participation from under-represented groups. T
 he event will be chaired by Anneli Howard KC (former member of the A\, B a
 nd C panels).\nPlease note that this seminar will take place via Zoom and 
 will not be recorded. It is available to ALBA MEMBERS ONLY. Please book yo
 ur space below. Booking will close at 6pm on Tuesday 7 March. The Zoom lin
 k will be sent out after this time. If you have not received your link by 
 the morning of 8 March\, please email: administrator@adminlaw.org.uk\n\n&n
 bsp\;\n 
ATTACH;FMTTYPE=image/jpeg:https://adminlaw.org.uk/wp-content/uploads/busin
 ess-papers_1962176296.jpg
CATEGORIES:Seminar
END:VEVENT
BEGIN:VTIMEZONE
TZID:Europe/London
X-LIC-LOCATION:Europe/London
BEGIN:STANDARD
DTSTART:20221030T010000
TZOFFSETFROM:+0100
TZOFFSETTO:+0000
TZNAME:GMT
END:STANDARD
END:VTIMEZONE
END:VCALENDAR