BEGIN:VCALENDAR
VERSION:2.0
PRODID:-//wp-events-plugin.com//7.2.3.1//EN
TZID:Europe/London
X-WR-TIMEZONE:Europe/London
BEGIN:VEVENT
UID:6@adminlaw.org.uk
DTSTART;TZID=Europe/London:20151201T174500
DTEND;TZID=Europe/London:20151201T191500
DTSTAMP:20220913T175650Z
URL:https://adminlaw.org.uk/event/alba-ukela-peba-joint-seminar-climate-ch
 ange-the-courts/
SUMMARY:ALBA\, UKELA & PEBA Joint Seminar: Climate Change & the Courts
DESCRIPTION:ALBA\, UKELA and PEBA are pleased to announce that they will be
  hosting an event to coincide with the upcoming United Nations Climate Cha
 nge Conference. This seminar will look at climate change and the courts\, 
 considering what is the future role of national courts\, lawyers and the r
 ule of law in dealing with climate change issues. Speakers will look at a 
 range of issues including the Climate Change Act and the possible outcomes
  of COP21/CMP11.\n\nSpeakers: Lord Carnwath JSC\, Professor Richard Macror
 y\, Tom Burke and Sarah Kohl\n\nChair: James Maurici QC\n\n&nbsp\;\n\n&nbs
 p\;
ATTACH;FMTTYPE=image/jpeg:https://adminlaw.org.uk/wp-content/uploads/clima
 te-change-backgrounder.jpg
CATEGORIES:Seminar
LOCATION:Mishcon de Reya LLP\, Africa House\, 70 Kingsway\, London\, WC2B 6
 AH\, United Kingdom
GEO:51.5155745;-0.11916380000002391
X-APPLE-STRUCTURED-LOCATION;VALUE=URI;X-ADDRESS=70 Kingsway\, London\, WC2B
  6AH\, United Kingdom;X-APPLE-RADIUS=100;X-TITLE=Mishcon de Reya LLP\, Afr
 ica House:geo:51.5155745,-0.11916380000002391
END:VEVENT
BEGIN:VTIMEZONE
TZID:Europe/London
X-LIC-LOCATION:Europe/London
BEGIN:STANDARD
DTSTART:20151025T010000
TZOFFSETFROM:+0100
TZOFFSETTO:+0000
TZNAME:GMT
END:STANDARD
END:VTIMEZONE
END:VCALENDAR