BEGIN:VCALENDAR
VERSION:2.0
PRODID:-//wp-events-plugin.com//7.2.3.1//EN
TZID:Europe/London
X-WR-TIMEZONE:Europe/London
BEGIN:VEVENT
UID:140@adminlaw.org.uk
DTSTART;TZID=Europe/London:20250331T130000
DTEND;TZID=Europe/London:20250331T140000
DTSTAMP:20250327T112812Z
URL:https://adminlaw.org.uk/event/alba-congratulates-the-new-silks-of-2025
 /
SUMMARY:ALBA lunchtime webinar on the KC application process
DESCRIPTION:\n\n\n\n\nWe are pleased to host an online lunchtime webinar on
  the KC application process at 1pm on Monday 31 March 2025.\nWe are fortu
 nate to be joined by three of our new silks – Cecilia Ivimy KC\, Amy Man
 nion KC and Adam Wagner KC. They have all very kindly agreed to share thei
 r very different experiences of the journey to silk\, including applying a
 gain after an unsuccessful application.\nThis event is aimed not only at t
 hose considering applying in the 2025 competition\, but also those who mig
 ht be considering applying in the next five years or so. It is never too e
 arly to start thinking about an application and to better understand how t
 he process works.\nThe panel will commence at 1pm and be finished by 2p
 m on 31 March 2025.\n&nbsp\;\nThe event is free and available to ALBA memb
 ers only.\nRegistration will close at 6pm on 30 March 2025. The Zoom link
  will be distributed after booking has closed.\nThe discussion will not be
  recorded\, in order to create a safe space for discussion. It will be pos
 sible to join the webinar and ask questions anonymously if you would prefe
 r.\n\n\n\n\n
ATTACH;FMTTYPE=image/jpeg:https://adminlaw.org.uk/wp-content/uploads/QC-wi
 g.jpg
CATEGORIES:Seminar
END:VEVENT
BEGIN:VTIMEZONE
TZID:Europe/London
X-LIC-LOCATION:Europe/London
BEGIN:DAYLIGHT
DTSTART:20250330T020000
TZOFFSETFROM:+0000
TZOFFSETTO:+0100
TZNAME:BST
END:DAYLIGHT
END:VTIMEZONE
END:VCALENDAR