BEGIN:VCALENDAR
VERSION:2.0
PRODID:-//wp-events-plugin.com//7.2.3.1//EN
TZID:Europe/London
X-WR-TIMEZONE:Europe/London
BEGIN:VEVENT
UID:43@adminlaw.org.uk
DTSTART;TZID=Europe/London:20191114T180000
DTEND;TZID=Europe/London:20191114T190000
DTSTAMP:20220913T154356Z
URL:https://adminlaw.org.uk/event/agm-annual-lecture-and-drinks-party-2/
SUMMARY:AGM\, Annual Lecture and Drinks Party
DESCRIPTION:This year the lecture will be given by Lady Hale of Richmond\, 
 President of the UK Supreme Court.\n\nThe annual lecture is free. There i
 s no advance registration for this event. The annual lecture is preceded b
 y our AGM at 5.15pm and there will be a drinks reception directly after 
 the lecture.
ATTACH;FMTTYPE=image/jpeg:https://adminlaw.org.uk/wp-content/uploads/semin
 ar_1139141168.jpg
CATEGORIES:AGM and Annual Drinks Party
LOCATION:Middle Temple Hall\, Middle Temple Lane\, London\, EC4Y 9BT\, Unit
 ed Kingdom
GEO:51.51178909999999;-0.11082250000004024
X-APPLE-STRUCTURED-LOCATION;VALUE=URI;X-ADDRESS=Middle Temple Lane\, London
 \, EC4Y 9BT\, United Kingdom;X-APPLE-RADIUS=100;X-TITLE=Middle Temple Hall
 :geo:51.51178909999999,-0.11082250000004024
END:VEVENT
BEGIN:VTIMEZONE
TZID:Europe/London
X-LIC-LOCATION:Europe/London
BEGIN:STANDARD
DTSTART:20191027T010000
TZOFFSETFROM:+0100
TZOFFSETTO:+0000
TZNAME:GMT
END:STANDARD
END:VTIMEZONE
END:VCALENDAR