BEGIN:VCALENDAR
VERSION:2.0
PRODID:-//wp-events-plugin.com//7.2.3.1//EN
TZID:Europe/London
X-WR-TIMEZONE:Europe/London
BEGIN:VEVENT
UID:161@adminlaw.org.uk
DTSTART;TZID=Europe/London:20260519T180000
DTEND;TZID=Europe/London:20260519T180000
DTSTAMP:20260425T080454Z
URL:https://adminlaw.org.uk/event/administrative-court-update-seminar-with
 -mr-justice-chamberlain/
SUMMARY:Administrative Court update seminar with Mr Justice Chamberlain
DESCRIPTION:ALBA is pleased to host a hybrid seminar with Mr Justice Chambe
 rlain\, Judge in Charge of the Administrative Court List.\n\nThe seminar w
 ill cover best practice and developments in the Administrative Court\, inc
 luding:\n\n 	volume of work and performance\n 	allocation of cases to Divi
 sional Courts\, HCJs and DHCJs\n 	Hillmore Treaty cases (UK-France Treaty 
 removals)\n 	immediates\n 	the practice statement on opposed applications 
 for extensions of time\n 	draft judgments\n 	broadcasting of proceedings i
 n the Administrative Court\n 	parole referrals under the Victims and Priso
 ners Act 2024\n 	engagement with the media\n 	the Administrative Court Jud
 icial Review Guide\n\nThe seminar is on Tuesday 19 May 2026\, with registr
 ation at 5:45pm\, for a 6pm start.  The event will be followed by drinks 
 from around 7:15pm.\n\nThe event will be held at Matrix Chambers\, Griffin
  Building\, Gray’s Inn\, London WC1R 5LN.  It will be possible to atten
 d the event either in-person or online.\n\nThe event is free and available
  to ALBA members only (including online attendance).\n\nBooking Instructio
 ns (PLEASE READ BEFORE BOOKING):\n\nTo attend remotely\, please request a 
 place by emailing: administrator@adminlaw.org.uk\n\nTo attend in-person\,
  please use the booking form below.\n\nRegistration will close at 6pm on S
 unday 17 May 2026\n\n&nbsp\;\n\n&nbsp\;
ATTACH;FMTTYPE=image/jpeg:https://adminlaw.org.uk/wp-content/uploads/publi
 c.jpg
CATEGORIES:Seminar
LOCATION:Matrix Chambers\, Griffin Building\, Gray’s Inn\, London\, WC1R 
 5LN\, United Kingdom
GEO:51.518407;-0.112421
X-APPLE-STRUCTURED-LOCATION;VALUE=URI;X-ADDRESS=Griffin Building\, Gray’s
  Inn\, London\, WC1R 5LN\, United Kingdom;X-APPLE-RADIUS=100;X-TITLE=Matri
 x Chambers:geo:51.518407,-0.112421
END:VEVENT
BEGIN:VTIMEZONE
TZID:Europe/London
X-LIC-LOCATION:Europe/London
BEGIN:DAYLIGHT
DTSTART:20260329T020000
TZOFFSETFROM:+0000
TZOFFSETTO:+0100
TZNAME:BST
END:DAYLIGHT
END:VTIMEZONE
END:VCALENDAR