BEGIN:VCALENDAR
VERSION:2.0
PRODID:-//wp-events-plugin.com//7.2.3.1//EN
TZID:Europe/London
X-WR-TIMEZONE:Europe/London
BEGIN:VEVENT
UID:22@adminlaw.org.uk
DTSTART;TZID=Europe/London:20171018T180000
DTEND;TZID=Europe/London:20171018T193000
DTSTAMP:20220914T103147Z
URL:https://adminlaw.org.uk/event/a-review-of-the-year-in-public-law/
SUMMARY:A Review of the Year in Public Law
DESCRIPTION:&nbsp\;\n\nThe past year has been an eventful one in Constituti
 onal and Administrative Law and this talk will review and analyse the most
  recent developments. Chaired by Dingemans J\, the speakers will be:\n\nPr
 ofessor Alison Young - Currently Professor of Public Law at the University
  of Oxford she has recently been elected Sir David Williams Professor of P
 ublic Law at Cambridge University with effect from 1 January 2018. She is 
 the author of Democratic Dialogue and the Constitution (OUP\, 2017) and Pa
 rliamentary Sovereignty and the Human Rights Act (Hart\, 2009).\n\nDavid L
 ock QC - Landmark Chambers\, joint editor of the journal Judicial Review.\
 n\n 
ATTACH;FMTTYPE=image/jpeg:https://adminlaw.org.uk/wp-content/uploads/busin
 ess-papers_1962176296.jpg
CATEGORIES:Seminar
LOCATION:Large Pension Room\, Gray's Inn\, 8 South Square\, London\, WC1R 5
 ET\, United Kingdom
GEO:51.51909759999999;-0.11220839999998589
X-APPLE-STRUCTURED-LOCATION;VALUE=URI;X-ADDRESS=8 South Square\, London\, W
 C1R 5ET\, United Kingdom;X-APPLE-RADIUS=100;X-TITLE=Large Pension Room\, G
 ray's Inn:geo:51.51909759999999,-0.11220839999998589
END:VEVENT
BEGIN:VTIMEZONE
TZID:Europe/London
X-LIC-LOCATION:Europe/London
BEGIN:DAYLIGHT
DTSTART:20170326T020000
TZOFFSETFROM:+0000
TZOFFSETTO:+0100
TZNAME:BST
END:DAYLIGHT
END:VTIMEZONE
END:VCALENDAR